BEGIN:VCALENDAR
VERSION:2.0
PRODID:-//Tukios.com/
BEGIN:VEVENT
UID:aae5e03c-21b7-4e26-a818-9481f333f078@www.irvinparkview.com
DTSTAMP:20260422T234635Z
DTSTART:20260424T170000Z
DTEND:20260424T180000Z
SUMMARY:Visitation
DESCRIPTION:
URL:https://www.irvinparkview.com/obituaries/margaret-hockenberrt
LOCATION: 1317 Poyntz Avenue  Manhattan KS 66502
GEO:39.1791292;-96.5775054
END:VEVENT
END:VCALENDAR