BEGIN:VCALENDAR
VERSION:2.0
PRODID:-//Tukios.com/
BEGIN:VEVENT
UID:88d2ed1f-1428-4e0d-803f-d3103d8c53e9@www.irvinparkview.com
DTSTAMP:20260422T234825Z
DTSTART:20260424T180000Z
DTEND:20260424T190000Z
SUMMARY:Funeral Service
DESCRIPTION:
URL:https://www.irvinparkview.com/obituaries/margaret-hockenberrt
LOCATION: 1317 Poyntz Avenue  Manhattan KS 66502
GEO:39.1791292;-96.5775054
END:VEVENT
END:VCALENDAR